BEGIN:VCALENDAR
VERSION:2.0
PRODID:-//ACCESS - ECPv6.15.20//NONSGML v1.0//EN
CALSCALE:GREGORIAN
METHOD:PUBLISH
X-WR-CALNAME:ACCESS
X-ORIGINAL-URL:https://accesshelps.org
X-WR-CALDESC:Events for ACCESS
REFRESH-INTERVAL;VALUE=DURATION:PT1H
X-Robots-Tag:noindex
X-PUBLISHED-TTL:PT1H
BEGIN:VTIMEZONE
TZID:America/Los_Angeles
BEGIN:DAYLIGHT
TZOFFSETFROM:-0800
TZOFFSETTO:-0700
TZNAME:PDT
DTSTART:20250309T100000
END:DAYLIGHT
BEGIN:STANDARD
TZOFFSETFROM:-0700
TZOFFSETTO:-0800
TZNAME:PST
DTSTART:20251102T090000
END:STANDARD
BEGIN:DAYLIGHT
TZOFFSETFROM:-0800
TZOFFSETTO:-0700
TZNAME:PDT
DTSTART:20260308T100000
END:DAYLIGHT
BEGIN:STANDARD
TZOFFSETFROM:-0700
TZOFFSETTO:-0800
TZNAME:PST
DTSTART:20261101T090000
END:STANDARD
BEGIN:DAYLIGHT
TZOFFSETFROM:-0800
TZOFFSETTO:-0700
TZNAME:PDT
DTSTART:20270314T100000
END:DAYLIGHT
BEGIN:STANDARD
TZOFFSETFROM:-0700
TZOFFSETTO:-0800
TZNAME:PST
DTSTART:20271107T090000
END:STANDARD
END:VTIMEZONE
BEGIN:VEVENT
DTSTART;TZID=America/Los_Angeles:20260516T083000
DTEND;TZID=America/Los_Angeles:20260516T163000
DTSTAMP:20260422T050810
CREATED:20251007T235521Z
LAST-MODIFIED:20260409T213236Z
UID:10000157-1778920200-1778949000@accesshelps.org
SUMMARY:Homeownership Course (Spanish Language)
DESCRIPTION:  \n\n¿Está pensando en comprar una casa? ACCESS ofrece educación integral para compradores de vivienda por primera vez que le ayudará a responder cualquier pregunta que pueda tener sobre el proceso. Estas clases están diseñadas para guiarle a través de todo el proceso de compra de vivienda para que sepa exactamente qué esperar y cómo manejar los costos. Además\, algunos programas de ACCESS requieren educación para compradores de vivienda como requisito para calificar.\n\n\nLos temas que aprenderá incluyen:\nConceptos básicos del financiamiento hipotecario y cómo calificar para un préstamo que se ajuste a sus necesidades\nProgramas de asistencia para el pago inicial y costos de cierre para compradores de vivienda por primera vez\n\n\nREGÍSTRESE AQUÍ\n \nCosto: $75 (un co-estudiante está incluido en la tarifa de inscripción)\n*Esta clase es GRATIS para sobrevivientes de los incendios de 2020.\nSi tiene ingresos bajos\, comuníquese con nosotros para solicitar una exención y asistir a la clase sin costo.\n\nPara más información sobre clases de educación financiera o para recibir asistencia\, comuníquese con el Centro de Propiedad de Vivienda de ACCESS al (541) 774-4305.
URL:https://accesshelps.org/event/homeownership-course-spanish-language-6/
LOCATION:ACCESS Olsrud Building\, 2020 Cardinal Ave\, Medford\, OR\, 97504\, United States
CATEGORIES:Homeownership Class
END:VEVENT
BEGIN:VEVENT
DTSTART;TZID=America/Los_Angeles:20260610T150000
DTEND;TZID=America/Los_Angeles:20260610T170000
DTSTAMP:20260422T050810
CREATED:20260406T215526Z
LAST-MODIFIED:20260409T211650Z
UID:10000168-1781103600-1781110800@accesshelps.org
SUMMARY:Financial Literacy Class
DESCRIPTION:  \n\nAre you interested in learning how to manage your money? Financial Literacy teaches the important skills of money management to set you up for success in the future.\n\n\nThis class will educate and empower you with:\n\n\n\n\nBudgeting\n\n\nCredit management\n\n\nMeeting savings goals\n\n\n\n\n\n\nEmergency savings tips\n\n\nMaking smart financial decisions\n\n\n\n\nREGISTER HERE\n \nCost: FREE!\n*NO eligibility requirements\nLocation: Virtual\nA Zoom link will be provided after registration.\n\nFor more information about financial education classes or for assistance\, please contact the ACCESS Homeownership Center at (541) 774-4305.
URL:https://accesshelps.org/event/financial-literacy-class-6/
LOCATION:Virtual: A zoom link will be provided
CATEGORIES:Financial Literacy Class
END:VEVENT
BEGIN:VEVENT
DTSTART;TZID=America/Los_Angeles:20260612T083000
DTEND;TZID=America/Los_Angeles:20260612T163000
DTSTAMP:20260422T050810
CREATED:20251007T234032Z
LAST-MODIFIED:20260415T231051Z
UID:10000151-1781253000-1781281800@accesshelps.org
SUMMARY:Homeownership Course (English Language)
DESCRIPTION:  \n\nAre you thinking of buying a home? ACCESS offers comprehensive first-time homebuyer education that helps answer any questions you may have about the process. These classes are designed to walk you through the entire homebuying process so you know exactly what to expect and how to manage the costs. Additionally\, some ACCESS programs require homebuyer education to qualify.\n\n\nTopics you can expect to learn about include: \nThe basics of mortgage financing and qualifying for a loan that fits your needs\nDown payment and closing assistance programs for first-time homebuyers\n\n\nREGISTER HERE\n \nCost: $75 (co-student is included in the registration fee)\n*This class is FREE for 2020 fire survivors. \nIf you are low-income\, please contact us for a waiver to attend the class at no cost. \n\nFor more information about financial education classes or for assistance\, please contact the ACCESS Homeownership Center at (541) 774-4305.
URL:https://accesshelps.org/event/homeownership-course-english-language-9/
LOCATION:ACCESS Olsrud Building\, 2020 Cardinal Ave\, Medford\, OR\, 97504\, United States
CATEGORIES:Homeownership Class
END:VEVENT
BEGIN:VEVENT
DTSTART;TZID=America/Los_Angeles:20260718T083000
DTEND;TZID=America/Los_Angeles:20260718T163000
DTSTAMP:20260422T050810
CREATED:20251007T235615Z
LAST-MODIFIED:20260409T213344Z
UID:10000158-1784363400-1784392200@accesshelps.org
SUMMARY:Homeownership Course (Spanish Language)
DESCRIPTION:  \n\n¿Está pensando en comprar una casa? ACCESS ofrece educación integral para compradores de vivienda por primera vez que le ayudará a responder cualquier pregunta que pueda tener sobre el proceso. Estas clases están diseñadas para guiarle a través de todo el proceso de compra de vivienda para que sepa exactamente qué esperar y cómo manejar los costos. Además\, algunos programas de ACCESS requieren educación para compradores de vivienda como requisito para calificar.\n\n\nLos temas que aprenderá incluyen:\nConceptos básicos del financiamiento hipotecario y cómo calificar para un préstamo que se ajuste a sus necesidades\nProgramas de asistencia para el pago inicial y costos de cierre para compradores de vivienda por primera vez\n\n\nREGÍSTRESE AQUÍ\n \nCosto: $75 (un co-estudiante está incluido en la tarifa de inscripción)\n*Esta clase es GRATIS para sobrevivientes de los incendios de 2020.\nSi tiene ingresos bajos\, comuníquese con nosotros para solicitar una exención y asistir a la clase sin costo.\n\nPara más información sobre clases de educación financiera o para recibir asistencia\, comuníquese con el Centro de Propiedad de Vivienda de ACCESS al (541) 774-4305.
URL:https://accesshelps.org/event/homeownership-course-spanish-language-7/
LOCATION:ACCESS Olsrud Building\, 2020 Cardinal Ave\, Medford\, OR\, 97504\, United States
CATEGORIES:Homeownership Class
END:VEVENT
BEGIN:VEVENT
DTSTART;TZID=America/Los_Angeles:20260729T160000
DTEND;TZID=America/Los_Angeles:20260729T180000
DTSTAMP:20260422T050810
CREATED:20260410T170734Z
LAST-MODIFIED:20260410T170734Z
UID:10000171-1785340800-1785348000@accesshelps.org
SUMMARY:ACCESS 50th Anniversary Celebration
DESCRIPTION:  \n\nJoin us for a special anniversary event celebrating 50 years of impact! This free event is open to the community and will feature fun activities\, a family-friendly play area\, and video footage of our history.
URL:https://accesshelps.org/event/access-50th-anniversary-celebration/
LOCATION:Medford Public Library\, 205 S Central Avenue\, Medford\, 97501\, United States
CATEGORIES:Homeownership Class
END:VEVENT
BEGIN:VEVENT
DTSTART;TZID=America/Los_Angeles:20260815T083000
DTEND;TZID=America/Los_Angeles:20260815T163000
DTSTAMP:20260422T050810
CREATED:20251007T234109Z
LAST-MODIFIED:20260415T231028Z
UID:10000152-1786782600-1786811400@accesshelps.org
SUMMARY:Homeownership Course (English Language)
DESCRIPTION:  \n\nAre you thinking of buying a home? ACCESS offers comprehensive first-time homebuyer education that helps answer any questions you may have about the process. These classes are designed to walk you through the entire homebuying process so you know exactly what to expect and how to manage the costs. Additionally\, some ACCESS programs require homebuyer education to qualify.\n\n\nTopics you can expect to learn about include: \nThe basics of mortgage financing and qualifying for a loan that fits your needs\nDown payment and closing assistance programs for first-time homebuyers\n\n\nREGISTER HERE\n \nCost: $75 (co-student is included in the registration fee)\n*This class is FREE for 2020 fire survivors. \nIf you are low-income\, please contact us for a waiver to attend the class at no cost. \n\nFor more information about financial education classes or for assistance\, please contact the ACCESS Homeownership Center at (541) 774-4305.
URL:https://accesshelps.org/event/homeownership-course-english-language-10/
LOCATION:ACCESS Olsrud Building\, 2020 Cardinal Ave\, Medford\, OR\, 97504\, United States
CATEGORIES:Homeownership Class
END:VEVENT
BEGIN:VEVENT
DTSTART;TZID=America/Los_Angeles:20260902T150000
DTEND;TZID=America/Los_Angeles:20260902T170000
DTSTAMP:20260422T050810
CREATED:20260406T215549Z
LAST-MODIFIED:20260409T211717Z
UID:10000169-1788361200-1788368400@accesshelps.org
SUMMARY:Financial Literacy Class
DESCRIPTION:  \n\nAre you interested in learning how to manage your money? Financial Literacy teaches the important skills of money management to set you up for success in the future.\n\n\nThis class will educate and empower you with:\n\n\n\n\nBudgeting\n\n\nCredit management\n\n\nMeeting savings goals\n\n\n\n\n\n\nEmergency savings tips\n\n\nMaking smart financial decisions\n\n\n\n\nREGISTER HERE\n \nCost: FREE!\n*NO eligibility requirements\nLocation: Virtual\nA Zoom link will be provided after registration.\n\nFor more information about financial education classes or for assistance\, please contact the ACCESS Homeownership Center at (541) 774-4305.
URL:https://accesshelps.org/event/financial-literacy-class-7/
LOCATION:Virtual: A zoom link will be provided
CATEGORIES:Financial Literacy Class
END:VEVENT
BEGIN:VEVENT
DTSTART;TZID=America/Los_Angeles:20260918T083000
DTEND;TZID=America/Los_Angeles:20260918T163000
DTSTAMP:20260422T050810
CREATED:20251007T234146Z
LAST-MODIFIED:20260415T231012Z
UID:10000153-1789720200-1789749000@accesshelps.org
SUMMARY:Homeownership Course (English Language)
DESCRIPTION:  \n\nAre you thinking of buying a home? ACCESS offers comprehensive first-time homebuyer education that helps answer any questions you may have about the process. These classes are designed to walk you through the entire homebuying process so you know exactly what to expect and how to manage the costs. Additionally\, some ACCESS programs require homebuyer education to qualify.\n\n\nTopics you can expect to learn about include: \nThe basics of mortgage financing and qualifying for a loan that fits your needs\nDown payment and closing assistance programs for first-time homebuyers\n\n\nREGISTER HERE\n \nCost: $75 (co-student is included in the registration fee)\n*This class is FREE for 2020 fire survivors. \nIf you are low-income\, please contact us for a waiver to attend the class at no cost. \n\nFor more information about financial education classes or for assistance\, please contact the ACCESS Homeownership Center at (541) 774-4305.
URL:https://accesshelps.org/event/homeownership-course-english-language-11/
LOCATION:ACCESS Olsrud Building\, 2020 Cardinal Ave\, Medford\, OR\, 97504\, United States
CATEGORIES:Homeownership Class
END:VEVENT
BEGIN:VEVENT
DTSTART;TZID=America/Los_Angeles:20261010T083000
DTEND;TZID=America/Los_Angeles:20261010T163000
DTSTAMP:20260422T050810
CREATED:20251007T235708Z
LAST-MODIFIED:20260409T213354Z
UID:10000159-1791621000-1791649800@accesshelps.org
SUMMARY:Homeownership Course (Spanish Language)
DESCRIPTION:  \n\n¿Está pensando en comprar una casa? ACCESS ofrece educación integral para compradores de vivienda por primera vez que le ayudará a responder cualquier pregunta que pueda tener sobre el proceso. Estas clases están diseñadas para guiarle a través de todo el proceso de compra de vivienda para que sepa exactamente qué esperar y cómo manejar los costos. Además\, algunos programas de ACCESS requieren educación para compradores de vivienda como requisito para calificar.\n\n\nLos temas que aprenderá incluyen:\nConceptos básicos del financiamiento hipotecario y cómo calificar para un préstamo que se ajuste a sus necesidades\nProgramas de asistencia para el pago inicial y costos de cierre para compradores de vivienda por primera vez\n\n\nREGÍSTRESE AQUÍ\n \nCosto: $75 (un co-estudiante está incluido en la tarifa de inscripción)\n*Esta clase es GRATIS para sobrevivientes de los incendios de 2020.\nSi tiene ingresos bajos\, comuníquese con nosotros para solicitar una exención y asistir a la clase sin costo.\n\nPara más información sobre clases de educación financiera o para recibir asistencia\, comuníquese con el Centro de Propiedad de Vivienda de ACCESS al (541) 774-4305.
URL:https://accesshelps.org/event/homeownership-course-spanish-language-8/
LOCATION:ACCESS Olsrud Building\, 2020 Cardinal Ave\, Medford\, OR\, 97504\, United States
CATEGORIES:Homeownership Class
END:VEVENT
BEGIN:VEVENT
DTSTART;TZID=America/Los_Angeles:20261024T083000
DTEND;TZID=America/Los_Angeles:20261024T163000
DTSTAMP:20260422T050810
CREATED:20251007T234212Z
LAST-MODIFIED:20260415T230919Z
UID:10000154-1792830600-1792859400@accesshelps.org
SUMMARY:Homeownership Course (English Language)
DESCRIPTION:  \n\nAre you thinking of buying a home? ACCESS offers comprehensive first-time homebuyer education that helps answer any questions you may have about the process. These classes are designed to walk you through the entire homebuying process so you know exactly what to expect and how to manage the costs. Additionally\, some ACCESS programs require homebuyer education to qualify.\n\n\nTopics you can expect to learn about include: \nThe basics of mortgage financing and qualifying for a loan that fits your needs\nDown payment and closing assistance programs for first-time homebuyers\n\n\nREGISTER HERE\n \nCost: $75 (co-student is included in the registration fee)\n*This class is FREE for 2020 fire survivors. \nIf you are low-income\, please contact us for a waiver to attend the class at no cost. \n\nFor more information about financial education classes or for assistance\, please contact the ACCESS Homeownership Center at (541) 774-4305.
URL:https://accesshelps.org/event/homeownership-course-english-language-12/
LOCATION:ACCESS Olsrud Building\, 2020 Cardinal Ave\, Medford\, OR\, 97504\, United States
CATEGORIES:Homeownership Class
END:VEVENT
BEGIN:VEVENT
DTSTART;TZID=America/Los_Angeles:20261104T150000
DTEND;TZID=America/Los_Angeles:20261104T170000
DTSTAMP:20260422T050810
CREATED:20260406T215608Z
LAST-MODIFIED:20260409T211728Z
UID:10000170-1793804400-1793811600@accesshelps.org
SUMMARY:Financial Literacy Class
DESCRIPTION:  \n\nAre you interested in learning how to manage your money? Financial Literacy teaches the important skills of money management to set you up for success in the future.\n\n\nThis class will educate and empower you with:\n\n\n\n\nBudgeting\n\n\nCredit management\n\n\nMeeting savings goals\n\n\n\n\n\n\nEmergency savings tips\n\n\nMaking smart financial decisions\n\n\n\n\nREGISTER HERE\n \nCost: FREE!\n*NO eligibility requirements\nLocation: Virtual\nA Zoom link will be provided after registration.\n\nFor more information about financial education classes or for assistance\, please contact the ACCESS Homeownership Center at (541) 774-4305.
URL:https://accesshelps.org/event/financial-literacy-class-8/
LOCATION:Virtual: A zoom link will be provided
CATEGORIES:Financial Literacy Class
END:VEVENT
BEGIN:VEVENT
DTSTART;TZID=America/Los_Angeles:20261120T083000
DTEND;TZID=America/Los_Angeles:20261120T163000
DTSTAMP:20260422T050810
CREATED:20251007T234302Z
LAST-MODIFIED:20260415T230934Z
UID:10000155-1795163400-1795192200@accesshelps.org
SUMMARY:Homeownership Course (English Language)
DESCRIPTION:  \n\nAre you thinking of buying a home? ACCESS offers comprehensive first-time homebuyer education that helps answer any questions you may have about the process. These classes are designed to walk you through the entire homebuying process so you know exactly what to expect and how to manage the costs. Additionally\, some ACCESS programs require homebuyer education to qualify.\n\n\nTopics you can expect to learn about include: \nThe basics of mortgage financing and qualifying for a loan that fits your needs\nDown payment and closing assistance programs for first-time homebuyers\n\n\nREGISTER HERE\n \nCost: $75 (co-student is included in the registration fee)\n*This class is FREE for 2020 fire survivors. \nIf you are low-income\, please contact us for a waiver to attend the class at no cost. \n\nFor more information about financial education classes or for assistance\, please contact the ACCESS Homeownership Center at (541) 774-4305.
URL:https://accesshelps.org/event/homeownership-course-english-language-13/
LOCATION:ACCESS Olsrud Building\, 2020 Cardinal Ave\, Medford\, OR\, 97504\, United States
CATEGORIES:Homeownership Class
END:VEVENT
END:VCALENDAR